BEGIN:VCALENDAR
METHOD:PUBLISH
PRODID:Microsoft Exchange Server 2010
VERSION:2.0
BEGIN:VTIMEZONE
TZID:tzone://Microsoft/Utc
BEGIN:STANDARD
DTSTART:16010101T000000
TZOFFSETFROM:+0000
TZOFFSETTO:+0000
END:STANDARD
BEGIN:DAYLIGHT
DTSTART:16010101T000000
TZOFFSETFROM:+0000
TZOFFSETTO:+0000
END:DAYLIGHT
END:VTIMEZONE
BEGIN:VEVENT
ORGANIZER;CN=Chantell Margeit:mailto:Chantellm@clearaccess.co.za
DESCRIPTION:\n
UID:040000008200E00074C5B7101A82E008000000006E8A290F0D95DC01000000000000000
 010000000382BB1C41F2CCF489957F5430F07DCA9
SUMMARY:Clear Access Padel Glowdown
DTSTART:20260415T140000Z
DTEND:20260415T213000Z
CLASS:PUBLIC
PRIORITY:5
DTSTAMP:20260203T130024Z
TRANSP:OPAQUE
STATUS:CONFIRMED
SEQUENCE:0
LOCATION;ALTREP="https://www.bingapis.com/api/v6/localbusinesses/YN8202x7512
 061161786960226?setLang=en-ZA":Killarney Country Club (60 Fifth Street\, \,
  Lower Houghton\, East London Gauteng\, South Africa)
X-MICROSOFT-CDO-BUSYSTATUS:BUSY
X-MICROSOFT-CDO-INTENDEDSTATUS:BUSY
X-MICROSOFT-CDO-ALLDAYEVENT:FALSE
X-MICROSOFT-CDO-IMPORTANCE:1
X-MICROSOFT-CDO-INSTTYPE:0
X-MICROSOFT-ONLINEMEETINGEXTERNALLINK:
X-MICROSOFT-ONLINEMEETINGCONFLINK:
X-MICROSOFT-DONOTFORWARDMEETING:FALSE
X-MICROSOFT-DISALLOW-COUNTER:FALSE
X-MICROSOFT-LOCATIONDISPLAYNAME:Killarney Country Club
X-MICROSOFT-LOCATIONSOURCE:LocationServices
X-MICROSOFT-LOCATIONURI:https://www.bingapis.com/api/v6/localbusinesses/YN8
 202x7512061161786960226?setLang=en-ZA
X-MICROSOFT-LATITUDE:-26.1518
X-MICROSOFT-LONGITUDE:28.0545
X-MICROSOFT-LOCATIONSTREET:60 Fifth Street\, \, Lower Houghton
X-MICROSOFT-LOCATIONCITY:East London
X-MICROSOFT-LOCATIONSTATE:Gauteng
X-MICROSOFT-LOCATIONCOUNTRY:South Africa
X-MICROSOFT-LOCATIONS:[{"DisplayName":"Killarney Country Club"\,"LocationAn
 notation":""\,"LocationSource":1\,"LocationUri":"https://www.bingapis.com/
 api/v6/localbusinesses/YN8202x7512061161786960226?setLang=en-ZA"\,"Latitud
 e":-26.1518\,"Longitude":28.0545\,"LocationStreet":"60 Fifth Street\, \, L
 ower Houghton"\,"LocationCity":"East London"\,"LocationState":"Gauteng"\,"
 LocationCountry":"South Africa"\,"LocationPostalCode":""\,"LocationFullAdd
 ress":""}]
BEGIN:VALARM
DESCRIPTION:REMINDER
TRIGGER;RELATED=START:-PT15M
ACTION:DISPLAY
END:VALARM
END:VEVENT
END:VCALENDAR
